BEGIN:VCALENDAR
VERSION:2.0
PRODID:SchoolNow
CALSCALE:GREGORIAN
BEGIN:VEVENT
UID:b7eccfe8-46f0-11ec-a905-0e75cb554483
DTSTAMP:20220103T195040Z
SUMMARY:POSTPONED~NJHS Candle Ceremony
URL;VALUE=URI:https://www.gls36.org/calendar/2896963/njhs-candle-ceremony
DTSTART:20220112T233000Z
DTEND:20220113T003000Z
END:VEVENT
END:VCALENDAR
