BEGIN:VCALENDAR
VERSION:2.0
PRODID:SchoolNow
CALSCALE:GREGORIAN
BEGIN:VEVENT
UID:6052af8c-38c7-11ec-b6e4-0ec36b3c6629
DTSTAMP:20220124T141755Z
SUMMARY:POSTPONED_Eighth Grade Graduation Pictures
URL;VALUE=URI:https://www.gls36.org/calendar/2853776/eighth-grade-graduatio
 n-pictures
DTSTART:20220125T140000Z
DTEND:20220125T153000Z
END:VEVENT
END:VCALENDAR
