BEGIN:VCALENDAR
VERSION:2.0
PRODID:SchoolNow
CALSCALE:GREGORIAN
BEGIN:VEVENT
UID:8df76cca-fab5-11eb-9f5f-02a765390fcd
DTSTAMP:20220131T202848Z
SUMMARY:Sweetheart Dance
URL;VALUE=URI:https://www.gls36.org/calendar/2666511/sweetheart-dance
DTSTART:20220204T160400Z
DTEND:20220204T170400Z
ATTACH;FILENAME=Sweetheart Dance .pdf;FMTTYPE=application/pdf:https://campu
 ssuite-storage.s3.amazonaws.com/prod/1053760/6c73247f-2f62-11e7-b792-22000
 bd8490f/2369253/62305ef6-82d4-11ec-906f-0af017070991/file/Sweetheart Dance
  .pdf
END:VEVENT
END:VCALENDAR
