BEGIN:VCALENDAR
VERSION:2.0
PRODID:SchoolNow
CALSCALE:GREGORIAN
BEGIN:VEVENT
UID:8b89d65c-a205-11eb-a298-02a33111fae7
DTSTAMP:20210420T182346Z
SUMMARY:Late Start
URL;VALUE=URI:https://www.gls36.org/calendar/2583149/late-start-clone-clone
 -clone-clone-clone-clone-clone-clone-clone-clone-clone-clone-clone-clone-c
 lone-clone-clone-clone-clone-clone-clone
DTSTART:20220216T150000Z
DTEND:20220216T160000Z
END:VEVENT
END:VCALENDAR
