BEGIN:VCALENDAR
VERSION:2.0
PRODID:SchoolNow
CALSCALE:GREGORIAN
BEGIN:VEVENT
UID:569815f8-a205-11eb-9104-02a33111fae7
DTSTAMP:20210420T182217Z
SUMMARY:Late Start
URL;VALUE=URI:https://www.gls36.org/calendar/2583144/late-start-clone-clone
 -clone-clone-clone-clone-clone-clone-clone-clone-clone-clone-clone-clone-c
 lone-clone
DTSTART:20220105T150000Z
DTEND:20220105T160000Z
END:VEVENT
END:VCALENDAR
