BEGIN:VCALENDAR
VERSION:2.0
PRODID:SchoolNow
CALSCALE:GREGORIAN
BEGIN:VEVENT
UID:00cc380e-a14a-11eb-883f-0ab65f08245f
DTSTAMP:20210419T200117Z
SUMMARY:No Student Attendance
URL;VALUE=URI:https://www.gls36.org/calendar/2582191/parent-teacher-confere
 nces-clone
DTSTART;VALUE=DATE:20220228
DTEND;VALUE=DATE:20220301
END:VEVENT
END:VCALENDAR
