BEGIN:VCALENDAR
VERSION:2.0
PRODID:SchoolNow
CALSCALE:GREGORIAN
BEGIN:VEVENT
UID:bcc7e932-a149-11eb-a831-0ab65f08245f
DTSTAMP:20210419T195923Z
SUMMARY:No Student Attendance
URL;VALUE=URI:https://www.gls36.org/calendar/2582188/teacher-institute-day-
 clone-clone-clone
DTSTART;VALUE=DATE:20220202
DTEND;VALUE=DATE:20220203
END:VEVENT
END:VCALENDAR
