BEGIN:VCALENDAR
VERSION:2.0
PRODID:SchoolNow
CALSCALE:GREGORIAN
BEGIN:VEVENT
UID:9602e590-a149-11eb-a826-0ab65f08245f
DTSTAMP:20210419T195818Z
SUMMARY:Teacher Institute Day
URL;VALUE=URI:https://www.gls36.org/calendar/2582184/teacher-institute-day-
 clone-clone
DTSTART;VALUE=DATE:20220202
DTEND;VALUE=DATE:20220203
END:VEVENT
END:VCALENDAR
