BEGIN:VCALENDAR
VERSION:2.0
PRODID:SchoolNow
CALSCALE:GREGORIAN
BEGIN:VEVENT
UID:37829196-a149-11eb-a749-0ab65f08245f
DTSTAMP:20210419T200506Z
SUMMARY:No School
URL;VALUE=URI:https://www.gls36.org/calendar/2582175/no-school
DTSTART;VALUE=DATE:20220221
DTEND;VALUE=DATE:20220222
END:VEVENT
END:VCALENDAR
