BEGIN:VCALENDAR
VERSION:2.0
PRODID:SchoolNow
CALSCALE:GREGORIAN
BEGIN:VEVENT
UID:2b3ed3cc-a149-11eb-9041-0ab65f08245f
DTSTAMP:20210419T200427Z
SUMMARY:No School
URL;VALUE=URI:https://www.gls36.org/calendar/2582174/no-school
DTSTART;VALUE=DATE:20220117
DTEND;VALUE=DATE:20220118
END:VEVENT
END:VCALENDAR
