BEGIN:VCALENDAR
VERSION:2.0
PRODID:SchoolNow
CALSCALE:GREGORIAN
BEGIN:VEVENT
UID:147593b0-a149-11eb-9f9e-0ab65f08245f
DTSTAMP:20210419T195456Z
SUMMARY:School Resumes for 2022
URL;VALUE=URI:https://www.gls36.org/calendar/2582173/school-begins-for-2022
DTSTART;VALUE=DATE:20220103
DTEND;VALUE=DATE:20220104
END:VEVENT
END:VCALENDAR
