BEGIN:VCALENDAR
VERSION:2.0
PRODID:SchoolNow
CALSCALE:GREGORIAN
BEGIN:VEVENT
UID:a9f4f798-a147-11eb-9aa2-0ab65f08245f
DTSTAMP:20220227T205058Z
SUMMARY:Virtual Parent Teacher Conferences
URL;VALUE=URI:https://www.gls36.org/calendar/2582161/parent-teacher-confere
 nces
DTSTART;VALUE=DATE:20220228
DTEND;VALUE=DATE:20220301
END:VEVENT
END:VCALENDAR
