BEGIN:VCALENDAR
VERSION:2.0
PRODID:SchoolNow
CALSCALE:GREGORIAN
BEGIN:VEVENT
UID:a4959cde-a134-11eb-bcbf-0a367ffe3f7d
DTSTAMP:20220215T215853Z
SUMMARY:Board of Education Meeting
URL;VALUE=URI:https://www.gls36.org/calendar/2582079/board-of-education-mee
 ting
DTSTART:20220216T003000Z
DTEND:20220216T040000Z
END:VEVENT
END:VCALENDAR
