BEGIN:VCALENDAR
VERSION:2.0
PRODID:SchoolNow
CALSCALE:GREGORIAN
BEGIN:VEVENT
UID:6e7ecfb2-a134-11eb-acba-0a367ffe3f7d
DTSTAMP:20210428T120007Z
SUMMARY:Board of Education Meeting
URL;VALUE=URI:https://www.gls36.org/calendar/2582077/board-of-education-mee
 ting
DTSTART:20220119T003000Z
DTEND:20220119T040000Z
END:VEVENT
END:VCALENDAR
