BEGIN:VCALENDAR
VERSION:2.0
PRODID:SchoolNow
CALSCALE:GREGORIAN
BEGIN:VEVENT
UID:7ae6fbf2-8736-11eb-b252-0ef6ac7fc32f
DTSTAMP:20210317T154008Z
SUMMARY:Save-a-Pet Donation Drive
URL;VALUE=URI:https://www.gls36.org/calendar/2557966/save-a-pet-donation-dr
 ive
DTSTART;VALUE=DATE:20210329
DTEND;VALUE=DATE:20210410
ATTACH;FILENAME=Fall Winter REV 11 9 20.pdf;FMTTYPE=application/pdf:https:/
 /campussuite-storage.s3.amazonaws.com/prod/1053760/6c73247f-2f62-11e7-b792
 -22000bd8490f/2241104/721eec0a-8736-11eb-b501-0ef6ac7fc32f/file/Fall Winte
 r REV 11 9 20.pdf
END:VEVENT
END:VCALENDAR
