BEGIN:VCALENDAR
VERSION:2.0
PRODID:SchoolNow
CALSCALE:GREGORIAN
BEGIN:VEVENT
UID:106820dc-5769-11eb-9238-0a3c63bf13a1
DTSTAMP:20210203T154249Z
SUMMARY:Portal is OPEN for the 5Essentials Survey
URL;VALUE=URI:https://www.gls36.org/calendar/2526090/portal-will-be-open-fo
 r-the-5essentials-survey
DTSTART:20210203T140000Z
DTEND:20210403T200000Z
ATTACH;FILENAME=5 essentials infographic.pdf;FMTTYPE=application/pdf:https:
 //campussuite-storage.s3.amazonaws.com/prod/1053760/6c73247f-2f62-11e7-b79
 2-22000bd8490f/2220228/b2ca658e-6172-11eb-8ac1-0ab03a97558d/file/5 essenti
 als infographic.pdf
ATTACH;FILENAME=Parent Announcement 5 Essential 1.27.21.pdf;FMTTYPE=applica
 tion/pdf:https://campussuite-storage.s3.amazonaws.com/prod/1053760/6c73247
 f-2f62-11e7-b792-22000bd8490f/2220229/b2ca6d4a-6172-11eb-bee5-0ab03a97558d
 /file/Parent Announcement 5 Essential 1.27.21.pdf
ATTACH;FILENAME=Parent nonparticipation slip 1.26.21.pdf;FMTTYPE=applicatio
 n/pdf:https://campussuite-storage.s3.amazonaws.com/prod/1053760/6c73247f-2
 f62-11e7-b792-22000bd8490f/2220230/b2ca6fb6-6172-11eb-8668-0ab03a97558d/fi
 le/Parent nonparticipation slip 1.26.21.pdf
END:VEVENT
END:VCALENDAR
