BEGIN:VCALENDAR
VERSION:2.0
PRODID:SchoolNow
CALSCALE:GREGORIAN
BEGIN:VEVENT
UID:817896d2-d2a1-11ea-a92f-127bd91c21c7
DTSTAMP:20200730T201609Z
SUMMARY:Special Board of Education Meeting
URL;VALUE=URI:https://www.gls36.org/calendar/2296434/special-board-of-educa
 tion-meeting
DTSTART:20200804T233000Z
DTEND:20200805T030000Z
END:VEVENT
END:VCALENDAR
