BEGIN:VCALENDAR
VERSION:2.0
PRODID:SchoolNow
CALSCALE:GREGORIAN
BEGIN:VEVENT
UID:3f920cf0-a9a5-11ea-b7a7-0a9fed5553d3
DTSTAMP:20200608T162938Z
SUMMARY:No School
URL;VALUE=URI:https://www.gls36.org/calendar/2257607/no-school
DTSTART;VALUE=DATE:20201124
DTEND;VALUE=DATE:20201125
END:VEVENT
END:VCALENDAR
