BEGIN:VCALENDAR
VERSION:2.0
PRODID:SchoolNow
CALSCALE:GREGORIAN
BEGIN:VEVENT
UID:ec6e4a84-dfdd-11e9-a3b5-12e3182c2b4c
DTSTAMP:20190925T214625Z
SUMMARY:Columbus Day - No School
URL;VALUE=URI:https://www.gls36.org/calendar/2105219/columbus-day-no-school
DTSTART;VALUE=DATE:20191014
DTEND;VALUE=DATE:20191015
END:VEVENT
END:VCALENDAR
