BEGIN:VCALENDAR
VERSION:2.0
PRODID:SchoolNow
CALSCALE:GREGORIAN
BEGIN:VEVENT
UID:d5311a70-98f9-11e9-a5bc-0acfef330c56
DTSTAMP:20190627T163720Z
SUMMARY:Soccer Home vs Stanton 4pm
LOCATION:Grass Lake School
URL;VALUE=URI:https://www.gls36.org/calendar/2015381/soccer-home-vs-stanton
 -4pm
DTSTART:20190912T210000Z
DTEND:20190912T220000Z
END:VEVENT
END:VCALENDAR
