BEGIN:VCALENDAR
VERSION:2.0
PRODID:SchoolNow
CALSCALE:GREGORIAN
BEGIN:VEVENT
UID:997c7284-9789-11e9-8a92-12c4776cfb4a
DTSTAMP:20190625T204125Z
SUMMARY:GLS Budget Forum
URL;VALUE=URI:https://www.gls36.org/calendar/2012870/gls-budget-forum
DTSTART:20190709T230000Z
DTEND:20190710T010000Z
END:VEVENT
END:VCALENDAR
