BEGIN:VCALENDAR
VERSION:2.0
PRODID:SchoolNow
CALSCALE:GREGORIAN
BEGIN:VEVENT
UID:81a23e24-7bdb-11e9-8969-0ada63288956
DTSTAMP:20190521T151711Z
SUMMARY:Summer School
URL;VALUE=URI:https://www.gls36.org/calendar/1988404/summer-school
DTSTART:20190722T151600Z
DTEND:20190725T161600Z
END:VEVENT
END:VCALENDAR
