BEGIN:VCALENDAR
VERSION:2.0
PRODID:SchoolNow
CALSCALE:GREGORIAN
BEGIN:VEVENT
UID:fd259d64-f415-11e8-8e0c-125a81c1a7e0
DTSTAMP:20181129T203311Z
SUMMARY:NJHS Supply Drive for Antioch Traveling Closet
URL;VALUE=URI:https://www.gls36.org/calendar/1910774/njhs-supply-drive-for-
 antioch-traveling-closet
DTSTART;VALUE=DATE:20181119
DTEND;VALUE=DATE:20181215
END:VEVENT
END:VCALENDAR
