BEGIN:VCALENDAR
VERSION:2.0
PRODID:SchoolNow
CALSCALE:GREGORIAN
BEGIN:VEVENT
UID:4537e5e2-f1cf-11e8-a219-12f42d892144
DTSTAMP:20181127T142839Z
SUMMARY:Math Fair at ACHS
URL;VALUE=URI:https://www.gls36.org/calendar/1909530/math-fair-at-achs-clon
 e
DTSTART:20181130T000000Z
DTEND:20181130T030000Z
END:VEVENT
END:VCALENDAR
