BEGIN:VCALENDAR
VERSION:2.0
PRODID:SchoolNow
CALSCALE:GREGORIAN
BEGIN:VEVENT
UID:36849abe-e9c7-11e8-a06f-124d4cc421e8
DTSTAMP:20181116T174405Z
SUMMARY:GLS Student Council Toys For Tots Donation Drive
URL;VALUE=URI:https://www.gls36.org/calendar/1906554/gls-student-council-to
 ys-for-tots-donation-drive
DTSTART;VALUE=DATE:20181116
DTEND;VALUE=DATE:20181127
END:VEVENT
END:VCALENDAR
