BEGIN:VCALENDAR
VERSION:2.0
PRODID:SchoolNow
CALSCALE:GREGORIAN
BEGIN:VEVENT
UID:1ad21356-e9c6-11e8-a42f-0a4488d7b0c0
DTSTAMP:20181116T175050Z
SUMMARY:GLS Braves Spirit Wear Orders
URL;VALUE=URI:https://www.gls36.org/calendar/1906553/gls-braves-spirit-wear
 -orders
DTSTART;VALUE=DATE:20181105
DTEND;VALUE=DATE:20181124
END:VEVENT
END:VCALENDAR
