BEGIN:VCALENDAR
VERSION:2.0
PRODID:SchoolNow
CALSCALE:GREGORIAN
BEGIN:VEVENT
UID:8c6ed8dc-e787-11e8-b706-0a5152cb017a
DTSTAMP:20181113T210319Z
SUMMARY:Pastries with Principal Plath
URL;VALUE=URI:https://www.gls36.org/calendar/1905606/pastries-with-principa
 l-plath
DTSTART:20181116T130000Z
DTEND:20181116T133000Z
END:VEVENT
END:VCALENDAR
