BEGIN:VCALENDAR
VERSION:2.0
PRODID:SchoolNow
CALSCALE:GREGORIAN
BEGIN:VEVENT
UID:6e796e6c-e437-11e8-88a3-127bc17fa01e
DTSTAMP:20181109T160238Z
SUMMARY:Eighth Grade Online Pre-Registration for  District 117 Class of 202
 3
URL;VALUE=URI:https://www.gls36.org/calendar/1904464/eighth-grade-online-pr
 e-registration-for-district-117-class-of-2023
DTSTART:20181112T154800Z
DTEND:20181203T164800Z
END:VEVENT
END:VCALENDAR
