BEGIN:VCALENDAR
VERSION:2.0
PRODID:SchoolNow
CALSCALE:GREGORIAN
BEGIN:VEVENT
UID:8a06b834-e13e-11e8-9049-0aae3ff80eb2
DTSTAMP:20181105T210535Z
SUMMARY:STREAM Night at GLS
URL;VALUE=URI:https://www.gls36.org/calendar/1901457/stream-night-at-gls
DTSTART:20181108T230000Z
DTEND:20181109T010000Z
END:VEVENT
END:VCALENDAR
