BEGIN:VCALENDAR
VERSION:2.0
PRODID:SchoolNow
CALSCALE:GREGORIAN
BEGIN:VEVENT
UID:46217b72-e13e-11e8-86fc-12631fd84668
DTSTAMP:20181108T173526Z
SUMMARY:Dignity Revolution Parent Assembly at Antioch Upper Grade School
URL;VALUE=URI:https://www.gls36.org/calendar/1901454/dignity-resolution-par
 ent-assembly-at-antioch-upper-grade-school
DTSTART:20181109T000000Z
DTEND:20181109T020000Z
END:VEVENT
END:VCALENDAR
