BEGIN:VCALENDAR
VERSION:2.0
PRODID:SchoolNow
CALSCALE:GREGORIAN
BEGIN:VEVENT
UID:33ea2aa4-ded6-11e8-b09a-0a1db53204f2
DTSTAMP:20181102T193603Z
SUMMARY:Indoor Recess Supply Drop-Off
URL;VALUE=URI:https://www.gls36.org/calendar/1900825/indoor-recess-supply-d
 rop-off
DTSTART:20181115T000000Z
DTEND:20181115T013000Z
END:VEVENT
END:VCALENDAR
