BEGIN:VCALENDAR
VERSION:2.0
PRODID:SchoolNow
CALSCALE:GREGORIAN
BEGIN:VEVENT
UID:f78ab5e6-debd-11e8-83e0-0a1c07d0c138
DTSTAMP:20181113T210346Z
SUMMARY:Away Game Boys Basketball at Alden Hebron
LOCATION:Alden Hebron
URL;VALUE=URI:https://www.gls36.org/calendar/1900814/away-game-boyts-basket
 ball-at-alden-hebron-4-pm
DTSTART:20181114T220000Z
DTEND:20181115T000000Z
END:VEVENT
END:VCALENDAR
