BEGIN:VCALENDAR
VERSION:2.0
PRODID:SchoolNow
CALSCALE:GREGORIAN
BEGIN:VEVENT
UID:5f4f9fe4-dc4c-11e8-a047-129ee0e1c772
DTSTAMP:20181108T173619Z
SUMMARY:All School Assembly for Students - Dignity Revolution
URL;VALUE=URI:https://www.gls36.org/calendar/1899123/all-school-assembly-fo
 r-students-dignity-resolution
DTSTART:20181109T150000Z
DTEND:20181109T160000Z
END:VEVENT
END:VCALENDAR
