BEGIN:VCALENDAR
VERSION:2.0
PRODID:SchoolNow
CALSCALE:GREGORIAN
BEGIN:VEVENT
UID:9ee5ce12-d576-11e8-bb0a-1293df7b912e
DTSTAMP:20181021T211648Z
SUMMARY:Home Game Boys Basketball vs Alden Hebron
LOCATION:Grass Lake
URL;VALUE=URI:https://www.gls36.org/calendar/1894385/home-game-boys-basketb
 all-vs-alden-hebron
DTSTART:20181129T220000Z
DTEND:20181130T000000Z
END:VEVENT
END:VCALENDAR
