BEGIN:VCALENDAR
VERSION:2.0
PRODID:SchoolNow
CALSCALE:GREGORIAN
BEGIN:VEVENT
UID:5970ae7e-d576-11e8-8fcf-0a9bad7739f0
DTSTAMP:20181021T211451Z
SUMMARY:Home Game Boys Basketball vs Big Hollow
LOCATION:Grass Lake
URL;VALUE=URI:https://www.gls36.org/calendar/1894383/home-game-boys-basketb
 all-vs-big-hollow
DTSTART:20181127T220000Z
DTEND:20181128T000000Z
END:VEVENT
END:VCALENDAR
