BEGIN:VCALENDAR
VERSION:2.0
PRODID:SchoolNow
CALSCALE:GREGORIAN
BEGIN:VEVENT
UID:cc132a22-d573-11e8-a84d-0a026f4270fc
DTSTAMP:20181021T205635Z
SUMMARY:Boys Basketball Emmons Tournament TBA
LOCATION:Emmons
URL;VALUE=URI:https://www.gls36.org/calendar/1894381/boys-basketball-emmons
 -tournament-tba
DTSTART:20181116T215500Z
DTEND:20181118T225500Z
END:VEVENT
END:VCALENDAR
