BEGIN:VCALENDAR
VERSION:2.0
PRODID:SchoolNow
CALSCALE:GREGORIAN
BEGIN:VEVENT
UID:72db1cb2-d573-11e8-b419-0a55d3468af6
DTSTAMP:20181021T205405Z
SUMMARY:6th Grade ONLY Boys Basketball vs Johnsburg
LOCATION:Johnsburg
URL;VALUE=URI:https://www.gls36.org/calendar/1894379/6th-grade-only-boys-ba
 sketball-vs-johnsburg
DTSTART:20181115T220000Z
DTEND:20181116T000000Z
END:VEVENT
END:VCALENDAR
