BEGIN:VCALENDAR
VERSION:2.0
PRODID:SchoolNow
CALSCALE:GREGORIAN
BEGIN:VEVENT
UID:33d4f444-d572-11e8-9784-120a4283d0a6
DTSTAMP:20181021T204540Z
SUMMARY:Away Game Boys Basketball vs Emmons
LOCATION:Emmons
URL;VALUE=URI:https://www.gls36.org/calendar/1894375/away-game-boys-basketb
 all-vs-emmons
DTSTART:20181107T220000Z
DTEND:20181108T000000Z
END:VEVENT
END:VCALENDAR
