BEGIN:VCALENDAR
VERSION:2.0
PRODID:SchoolNow
CALSCALE:GREGORIAN
BEGIN:VEVENT
UID:9c46c706-d571-11e8-8011-0a9bad7739f0
DTSTAMP:20181021T204631Z
SUMMARY:Home Game Boys Basketball vs Gavin South
LOCATION:Grass Lake
URL;VALUE=URI:https://www.gls36.org/calendar/1894371/home-boys-basketball-v
 s-gavin-south
DTSTART:20181106T220000Z
DTEND:20181107T000000Z
END:VEVENT
END:VCALENDAR
