BEGIN:VCALENDAR
VERSION:2.0
PRODID:SchoolNow
CALSCALE:GREGORIAN
BEGIN:VEVENT
UID:5e1966dc-d571-11e8-b33c-120a4283d0a6
DTSTAMP:20181021T204603Z
SUMMARY:Home Game Boys Basketball vs North Prairie
LOCATION:Grass Lake
URL;VALUE=URI:https://www.gls36.org/calendar/1894369/boys-basketball-home-v
 s-north-prairie
DTSTART:20181105T220000Z
DTEND:20181106T000000Z
END:VEVENT
END:VCALENDAR
