BEGIN:VCALENDAR
VERSION:2.0
PRODID:SchoolNow
CALSCALE:GREGORIAN
BEGIN:VEVENT
UID:f20e0d80-d570-11e8-9064-12048747a896
DTSTAMP:20181021T203610Z
SUMMARY:No Basketball or Cheer Practice - Early Release
URL;VALUE=URI:https://www.gls36.org/calendar/1894367/no-basketball-or-cheer
 -practice-early-release
DTSTART:20181024T180000Z
DTEND:20181024T183000Z
END:VEVENT
END:VCALENDAR
