BEGIN:VCALENDAR
VERSION:2.0
PRODID:SchoolNow
CALSCALE:GREGORIAN
BEGIN:VEVENT
UID:a5cf91dc-d570-11e8-8111-0a9bad7739f0
DTSTAMP:20181021T203402Z
SUMMARY:No Practice for Basketball & Cheer
URL;VALUE=URI:https://www.gls36.org/calendar/1894365/no-practice-for-basket
 ball-cheer
DTSTART:20181031T194500Z
DTEND:20181031T213000Z
END:VEVENT
END:VCALENDAR
