BEGIN:VCALENDAR
VERSION:2.0
PRODID:SchoolNow
CALSCALE:GREGORIAN
BEGIN:VEVENT
UID:b09cad4c-d238-11e8-81bb-12c734c8e7a8
DTSTAMP:20181017T182306Z
SUMMARY:Red Ribbon Week
URL;VALUE=URI:https://www.gls36.org/calendar/1891912/red-ribbon-week
DTSTART;VALUE=DATE:20181022
DTEND;VALUE=DATE:20181027
END:VEVENT
END:VCALENDAR
