BEGIN:VCALENDAR
VERSION:2.0
PRODID:SchoolNow
CALSCALE:GREGORIAN
BEGIN:VEVENT
UID:0cebe422-d22b-11e8-8812-0a1354a28224
DTSTAMP:20181017T165525Z
SUMMARY:Parent Teacher Conferences
URL;VALUE=URI:https://www.gls36.org/calendar/1891866/parent-teacher-confere
 nces
DTSTART:20181119T190000Z
DTEND:20181120T020000Z
END:VEVENT
END:VCALENDAR
