BEGIN:VCALENDAR
VERSION:2.0
PRODID:SchoolNow
CALSCALE:GREGORIAN
BEGIN:VEVENT
UID:4d22343a-d229-11e8-86d5-0a49d648564a
DTSTAMP:20181017T162647Z
SUMMARY:Picture Retake Day
URL;VALUE=URI:https://www.gls36.org/calendar/1891852/picture-retake-day
DTSTART:20181026T162500Z
DTEND:20181026T172500Z
END:VEVENT
END:VCALENDAR
