BEGIN:VCALENDAR
VERSION:2.0
PRODID:SchoolNow
CALSCALE:GREGORIAN
BEGIN:VEVENT
UID:04cff3a8-d223-11e8-a9c4-0a1354a28224
DTSTAMP:20181114T204352Z
SUMMARY:Beginning of Second Trimester
URL;VALUE=URI:https://www.gls36.org/calendar/1891823/beginning-of-second-tr
 imester
DTSTART:20181114T164000Z
DTEND:20181114T174000Z
END:VEVENT
END:VCALENDAR
