BEGIN:VCALENDAR
VERSION:2.0
PRODID:SchoolNow
CALSCALE:GREGORIAN
BEGIN:VEVENT
UID:308a69ac-d222-11e8-a814-125d17acd584
DTSTAMP:20181114T204328Z
SUMMARY:End of First Trimester
URL;VALUE=URI:https://www.gls36.org/calendar/1891814/end-of-first-trimester
DTSTART:20181113T204500Z
DTEND:20181113T204600Z
END:VEVENT
END:VCALENDAR
