BEGIN:VCALENDAR
VERSION:2.0
PRODID:SchoolNow
CALSCALE:GREGORIAN
BEGIN:VEVENT
UID:9678d9da-d09f-11e8-875c-0abc8aca6fbc
DTSTAMP:20181015T172727Z
SUMMARY:Girl Scouts Informational Gathering Meeting at the Lake Villa Towns
 hip West Campus
URL;VALUE=URI:https://www.gls36.org/calendar/1889468/girl-scouts-informatio
 nal-gathering-meeting-at-the-lake-villa-township-west-campus
DTSTART:20181025T000000Z
DTEND:20181025T010000Z
END:VEVENT
END:VCALENDAR
