BEGIN:VCALENDAR
VERSION:2.0
PRODID:SchoolNow
CALSCALE:GREGORIAN
BEGIN:VEVENT
UID:3c568dee-d09f-11e8-ba14-12015556a612
DTSTAMP:20181015T172815Z
SUMMARY:Girl Scouts Informational Gathering Meeting at Round Lake Area Park
  District
URL;VALUE=URI:https://www.gls36.org/calendar/1889467/girl-scouts-informatio
 nal-gathering-meeting-at-round-lake-area-park-district
DTSTART:20181024T000000Z
DTEND:20181024T010000Z
END:VEVENT
END:VCALENDAR
