BEGIN:VCALENDAR
VERSION:2.0
PRODID:SchoolNow
CALSCALE:GREGORIAN
BEGIN:VEVENT
UID:fcd0e2d2-d09e-11e8-9212-1269fe36fdb4
DTSTAMP:20181015T172538Z
SUMMARY:Girl Scouts Informational Gathering Meeting at Hannah's Home Accent
 s
URL;VALUE=URI:https://www.gls36.org/calendar/1889465/girl-scouts-informatio
 nal-gathering-meeting
DTSTART:20181020T170000Z
DTEND:20181020T190000Z
END:VEVENT
END:VCALENDAR
